BEGIN:VCALENDAR
VERSION:2.0
PRODID:-//Tukios.com/
BEGIN:VEVENT
UID:fbcd8fe5-ee8d-44bc-b988-40c3168e5f0f@www.willfuneralchapel.com
DTSTAMP:20260422T024438Z
DTSTART:20260424T153000Z
DTEND:20260424T163000Z
SUMMARY:Funeral Service
DESCRIPTION:
URL:https://www.willfuneralchapel.com/obituaries/kathryn-walz
LOCATION: 210 E Green Dr  Mitchell SD 57301
GEO:43.7260645;-98.0235446
END:VEVENT
END:VCALENDAR