BEGIN:VCALENDAR
VERSION:2.0
PRODID:-//Tukios.com/
BEGIN:VEVENT
UID:355349ff-929b-4f26-889b-9e7c0ae84ad4@www.willfuneralchapel.com
DTSTAMP:20260422T024437Z
DTSTART:20260423T220000Z
DTEND:20260424T000000Z
SUMMARY:Visitation
DESCRIPTION:
URL:https://www.willfuneralchapel.com/obituaries/kathryn-walz
LOCATION:Will Funeral Chapel 210 E Green Dr  Mitchell SD 57301
GEO:43.7260645;-98.0235446
END:VEVENT
END:VCALENDAR